BEGIN:VCALENDAR
VERSION:2.0
PRODID:-//UKOPA - ECPv6.15.18//NONSGML v1.0//EN
CALSCALE:GREGORIAN
METHOD:PUBLISH
X-WR-CALNAME:UKOPA
X-ORIGINAL-URL:https://ukopa.co.uk
X-WR-CALDESC:Events for UKOPA
REFRESH-INTERVAL;VALUE=DURATION:PT1H
X-Robots-Tag:noindex
X-PUBLISHED-TTL:PT1H
BEGIN:VTIMEZONE
TZID:Europe/London
BEGIN:DAYLIGHT
TZOFFSETFROM:+0000
TZOFFSETTO:+0100
TZNAME:BST
DTSTART:20250330T010000
END:DAYLIGHT
BEGIN:STANDARD
TZOFFSETFROM:+0100
TZOFFSETTO:+0000
TZNAME:GMT
DTSTART:20251026T010000
END:STANDARD
BEGIN:DAYLIGHT
TZOFFSETFROM:+0000
TZOFFSETTO:+0100
TZNAME:BST
DTSTART:20260329T010000
END:DAYLIGHT
BEGIN:STANDARD
TZOFFSETFROM:+0100
TZOFFSETTO:+0000
TZNAME:GMT
DTSTART:20261025T010000
END:STANDARD
BEGIN:DAYLIGHT
TZOFFSETFROM:+0000
TZOFFSETTO:+0100
TZNAME:BST
DTSTART:20270328T010000
END:DAYLIGHT
BEGIN:STANDARD
TZOFFSETFROM:+0100
TZOFFSETTO:+0000
TZNAME:GMT
DTSTART:20271031T010000
END:STANDARD
END:VTIMEZONE
BEGIN:VEVENT
DTSTART;VALUE=DATE:20260421
DTEND;VALUE=DATE:20260422
DTSTAMP:20260421T023614
CREATED:20260309T171236Z
LAST-MODIFIED:20260309T171256Z
UID:9024-1776729600-1776815999@ukopa.co.uk
SUMMARY:UKOPA Welding Workshop
DESCRIPTION:UKOPA is bringing together industry expertise to discuss pipeline welding and identify how we can improve standards and support across the sector.  \nThis initial workshop will: Explore current gaps in welding practice and support Identify where collaboration is needed Define what members require to better manage pipeline welding. \nWe’re inviting your welding experts\, and those working in and around the welding process\, to take part and contribute their knowledge and experience. Your insight will help shape future UKOPA guidance and industry improvement. \nJoin us and help drive better pipeline welding practice. \nTo book your space: \nContact your PIWG rep or email secretary@ukopa.co.uk. \nDeadline for responses is 6th April.
URL:https://ukopa.co.uk/event/ukopa-welding-workshop/
LOCATION:Berkshire
ATTACH;FMTTYPE=image/jpeg:https://ukopa.co.uk/wp-content/uploads/2026/03/shutterstock_336253784.jpg
END:VEVENT
END:VCALENDAR